BEGIN:VCALENDAR
VERSION:2.0
PRODID:-//Comité Español UICN - ECPv6.15.18//NONSGML v1.0//EN
CALSCALE:GREGORIAN
METHOD:PUBLISH
X-WR-CALNAME:Comité Español UICN
X-ORIGINAL-URL:https://www.uicn.es
X-WR-CALDESC:Eventos para Comité Español UICN
REFRESH-INTERVAL;VALUE=DURATION:PT1H
X-Robots-Tag:noindex
X-PUBLISHED-TTL:PT1H
BEGIN:VTIMEZONE
TZID:Europe/Madrid
BEGIN:DAYLIGHT
TZOFFSETFROM:+0100
TZOFFSETTO:+0200
TZNAME:CEST
DTSTART:20250330T010000
END:DAYLIGHT
BEGIN:STANDARD
TZOFFSETFROM:+0200
TZOFFSETTO:+0100
TZNAME:CET
DTSTART:20251026T010000
END:STANDARD
BEGIN:DAYLIGHT
TZOFFSETFROM:+0100
TZOFFSETTO:+0200
TZNAME:CEST
DTSTART:20260329T010000
END:DAYLIGHT
BEGIN:STANDARD
TZOFFSETFROM:+0200
TZOFFSETTO:+0100
TZNAME:CET
DTSTART:20261025T010000
END:STANDARD
BEGIN:DAYLIGHT
TZOFFSETFROM:+0100
TZOFFSETTO:+0200
TZNAME:CEST
DTSTART:20270328T010000
END:DAYLIGHT
BEGIN:STANDARD
TZOFFSETFROM:+0200
TZOFFSETTO:+0100
TZNAME:CET
DTSTART:20271031T010000
END:STANDARD
END:VTIMEZONE
BEGIN:VEVENT
DTSTART;TZID=Europe/Madrid:20260213T093000
DTEND;TZID=Europe/Madrid:20260213T133000
DTSTAMP:20260425T215024
CREATED:20260209T105535Z
LAST-MODIFIED:20260209T105719Z
UID:12179-1770975000-1770989400@www.uicn.es
SUMMARY:Jornada «Ciencia Ciudadana y Nueva Ruralidad»
DESCRIPTION:El próximo viernes 13 de febrero de 2026\, el Salón de Actos del Edificio Presidencia del CSIC (Madrid) acogerá la jornada «Ciencia Ciudadana y Nueva Ruralidad»\, un encuentro que pone el foco en el papel de la ciencia ciudadana como herramienta clave para impulsar el desarrollo sostenible\, la cohesión social y la innovación en el medio rural. \nLa jornada nace de la colaboración entre el Consejo Superior de Investigaciones Científicas (CSIC)\, El Hueco\, la Fundación Oxígeno\, la Asociación Tierras Sorianas del Cid con la colaboración del Comité Español de la UICN (CeUICN) y Cives Mundi entre otras entidades\, con el objetivo de acercar la ciencia al territorio y reforzar los vínculos entre comunidad científica\, ciudadanía e instituciones locales. \nA lo largo de la mañana se presentarán experiencias reales desarrolladas desde el medio rural\, mostrando cómo la participación ciudadana está generando conocimiento útil en ámbitos como la biodiversidad\, el patrimonio\, la educación ambiental\, la sostenibilidad o la innovación social. El programa incluye una ponencia inaugural del CSIC\, mesas de experiencias territoriales\, un diálogo multidisciplinar sobre comunicación y participación\, y una conversación final orientada a la acción. \nEl encuentro concluirá con la presentación del programa piloto «Ciencia Ciudadana en los Pueblos Acogedores»\, que seleccionará los primeros municipios participantes en esta iniciativa durante 2026\, reforzando la alianza entre ciencia\, ciudadanía y territorio. \nDesde el CeUICN\, esta jornada se alinea con nuestro compromiso de promover la participación social en la conservación de la naturaleza\, el uso del conocimiento científico para la toma de decisiones y el fortalecimiento de redes locales que contribuyan a una transición ecológica justa y territorialmente equilibrada. \n📅 Fecha: Viernes\, 13 de febrero de 2026🕘 Horario: 09:30 – 13:30 h📍 Lugar: Salón de Actos\, Edificio Presidencia del CSIC (C/ Serrano\, 117 · Madrid) \n👉 Inscripciones abiertas (plazas limitadas). https://cienciaciudadanacsic.eventbrite.es \nDescargar folleto
URL:https://www.uicn.es/evento/jornada-ciencia-ciudadana-y-nueva-ruralidad/
LOCATION:\, Edificio Presidencia del CSIC (C/ Serrano\, 117 · Madrid)\, \, Edificio Presidencia del CSIC (C/ Serrano\, 117 · Madrid)\, Madrid\, Spain
CATEGORIES:UICN
ATTACH;FMTTYPE=image/jpeg:https://www.uicn.es/content/uploads/2026/02/WhatsApp-Image-2026-02-09-at-11.19.01.jpeg
END:VEVENT
END:VCALENDAR